BEGIN:VCALENDAR
VERSION:2.0
PRODID:Events Booking
BEGIN:VEVENT
UID:69e77650d1105
SUMMARY:Brooklyn különleges kirándulás (vasárnaponként)
DESCRIPTION:A Brooklyn kirándulás betekintést nyújt New York egyik legs
 okszínűbb városrészébe. Ez a program ötvözi a kulturális élménye
 ket\, a vallási hagyományokat\, a tengerparti szórakozást és a világ
 hírű panorámát. Különlegessége\, hogy vasárnaponként Gospel előa
 dással egészül ki\, amely felejthetetlen élményt nyújt.
DTSTART:20260426T080000Z
DTEND:20260426T160000Z
DTSTAMP:20251003T112335Z
ORGANIZER;CN=VilágiTravel:MAILTO:balazsdaniel10@gmail.com
END:VEVENT
END:VCALENDAR